Package: epivizr Version: 2.39.0 Command: /home/biocbuild/bbs-3.22-bioc/R/bin/R CMD INSTALL epivizr StartedAt: 2025-10-24 15:56:03 -0400 (Fri, 24 Oct 2025) EndedAt: 2025-10-24 15:56:45 -0400 (Fri, 24 Oct 2025) EllapsedTime: 42.1 seconds RetCode: 0 Status: OK