Package: epistack Version: 1.15.1 Command: /home/biocbuild/bbs-3.22-bioc/R/bin/R CMD build --keep-empty-dirs --no-resave-data --md5 epistack StartedAt: 2025-10-24 17:41:34 -0400 (Fri, 24 Oct 2025) EndedAt: 2025-10-24 17:43:06 -0400 (Fri, 24 Oct 2025) EllapsedTime: 92.0 seconds RetCode: 0 Status: OK PackageFile: epistack_1.15.1.tar.gz PackageFileSize: 3.719 MiB