Package: epiregulon Version: 1.99.7 Command: /home/biocbuild/bbs-3.22-bioc/R/bin/R CMD INSTALL epiregulon StartedAt: 2025-10-24 16:05:16 -0400 (Fri, 24 Oct 2025) EndedAt: 2025-10-24 16:05:51 -0400 (Fri, 24 Oct 2025) EllapsedTime: 35.2 seconds RetCode: 0 Status: OK