Package: epiregulon Version: 1.99.7 Command: /home/biocbuild/bbs-3.22-bioc/R/bin/R CMD build --keep-empty-dirs --no-resave-data --md5 epiregulon StartedAt: 2025-10-24 17:41:32 -0400 (Fri, 24 Oct 2025) EndedAt: 2025-10-24 17:50:54 -0400 (Fri, 24 Oct 2025) EllapsedTime: 562.5 seconds RetCode: 0 Status: OK PackageFile: epiregulon_1.99.7.tar.gz PackageFileSize: 1.203 MiB