Package: epiregulon.extra Version: 1.5.1 Command: /home/biocbuild/bbs-3.22-bioc/R/bin/R CMD build --keep-empty-dirs --no-resave-data --md5 epiregulon.extra StartedAt: 2025-10-24 17:41:34 -0400 (Fri, 24 Oct 2025) EndedAt: 2025-10-24 17:47:41 -0400 (Fri, 24 Oct 2025) EllapsedTime: 367.3 seconds RetCode: 0 Status: OK PackageFile: epiregulon.extra_1.5.1.tar.gz PackageFileSize: 3.201 MiB