Package: epimutacions Version: 1.13.0 Command: /home/biocbuild/bbs-3.22-bioc/R/bin/R CMD INSTALL epimutacions StartedAt: 2025-10-24 16:11:54 -0400 (Fri, 24 Oct 2025) EndedAt: 2025-10-24 16:12:42 -0400 (Fri, 24 Oct 2025) EllapsedTime: 47.8 seconds RetCode: 0 Status: OK