Package: epimutacions Version: 1.13.0 Command: /home/biocbuild/bbs-3.22-bioc/R/bin/R CMD build --keep-empty-dirs --no-resave-data --md5 epimutacions StartedAt: 2025-10-24 17:41:11 -0400 (Fri, 24 Oct 2025) EndedAt: 2025-10-24 17:44:22 -0400 (Fri, 24 Oct 2025) EllapsedTime: 191.1 seconds RetCode: 0 Status: OK PackageFile: epimutacions_1.13.0.tar.gz PackageFileSize: 1.728 MiB