Package: epimutacions Version: 1.14.0 Command: /Library/Frameworks/R.framework/Resources/bin/R CMD build --keep-empty-dirs --no-resave-data epimutacions StartedAt: 2025-11-10 16:20:05 -0500 (Mon, 10 Nov 2025) EndedAt: 2025-11-10 16:21:26 -0500 (Mon, 10 Nov 2025) EllapsedTime: 80.8 seconds RetCode: 0 Status: OK PackageFile: epimutacions_1.14.0.tar.gz PackageFileSize: 1.737 MiB