Package: epigraHMM Version: 1.17.3 Command: /home/biocbuild/bbs-3.22-bioc/R/bin/R CMD INSTALL epigraHMM StartedAt: 2025-10-24 15:42:05 -0400 (Fri, 24 Oct 2025) EndedAt: 2025-10-24 15:44:09 -0400 (Fri, 24 Oct 2025) EllapsedTime: 123.8 seconds RetCode: 0 Status: OK