Package: epigraHMM Version: 1.17.3 Command: /home/biocbuild/bbs-3.22-bioc/R/bin/R CMD build --keep-empty-dirs --no-resave-data --md5 epigraHMM StartedAt: 2025-10-24 17:40:40 -0400 (Fri, 24 Oct 2025) EndedAt: 2025-10-24 17:49:50 -0400 (Fri, 24 Oct 2025) EllapsedTime: 550.5 seconds RetCode: 0 Status: OK PackageFile: epigraHMM_1.17.3.tar.gz PackageFileSize: 726.8 KiB