Package: epidecodeR Version: 1.17.0 Command: /home/biocbuild/bbs-3.22-bioc/R/bin/R CMD check --install=check:epidecodeR.install-out.txt --library=/home/biocbuild/bbs-3.22-bioc/R/site-library --timings epidecodeR_1.17.0.tar.gz StartedAt: 2025-10-27 23:22:50 -0400 (Mon, 27 Oct 2025) EndedAt: 2025-10-27 23:27:10 -0400 (Mon, 27 Oct 2025) EllapsedTime: 259.2 seconds RetCode: 0 Status: OK CheckDir: epidecodeR.Rcheck Warnings: 0