Package: epidecodeR Version: 1.17.0 Command: /Library/Frameworks/R.framework/Resources/bin/R CMD check --install=check:epidecodeR.install-out.txt --library=/Library/Frameworks/R.framework/Resources/library --no-vignettes --timings epidecodeR_1.17.0.tar.gz StartedAt: 2025-10-24 21:03:07 -0400 (Fri, 24 Oct 2025) EndedAt: 2025-10-24 21:07:39 -0400 (Fri, 24 Oct 2025) EllapsedTime: 272.0 seconds RetCode: 0 Status: OK CheckDir: epidecodeR.Rcheck Warnings: 0