Package: epidecodeR Version: 1.17.0 Command: /Library/Frameworks/R.framework/Resources/bin/R CMD INSTALL epidecodeR StartedAt: 2025-10-24 15:18:56 -0400 (Fri, 24 Oct 2025) EndedAt: 2025-10-24 15:19:10 -0400 (Fri, 24 Oct 2025) EllapsedTime: 14.0 seconds RetCode: 0 Status: OK