Package: epidecodeR Version: 1.17.0 Command: /Library/Frameworks/R.framework/Resources/bin/R CMD build --keep-empty-dirs --no-resave-data epidecodeR StartedAt: 2025-10-24 16:21:52 -0400 (Fri, 24 Oct 2025) EndedAt: 2025-10-24 16:22:14 -0400 (Fri, 24 Oct 2025) EllapsedTime: 22.2 seconds RetCode: 0 Status: OK PackageFile: epidecodeR_1.17.0.tar.gz PackageFileSize: 2.065 MiB