Package: epiNEM Version: 1.33.0 Command: /home/biocbuild/bbs-3.22-bioc/R/bin/R CMD INSTALL epiNEM StartedAt: 2025-10-24 15:27:43 -0400 (Fri, 24 Oct 2025) EndedAt: 2025-10-24 15:28:01 -0400 (Fri, 24 Oct 2025) EllapsedTime: 17.8 seconds RetCode: 0 Status: OK