Package: ensembldb Version: 2.33.2 Command: /home/biocbuild/R/R/bin/R CMD build --keep-empty-dirs --no-resave-data ensembldb StartedAt: 2025-10-20 23:36:38 -0000 (Mon, 20 Oct 2025) EndedAt: 2025-10-20 23:39:21 -0000 (Mon, 20 Oct 2025) EllapsedTime: 163.1 seconds RetCode: 0 Status: OK PackageFile: ensembldb_2.33.2.tar.gz PackageFileSize: 3.478 MiB