Package: ensembldb Version: 2.33.2 Command: /home/biocbuild/bbs-3.22-bioc/R/bin/R CMD check --install=check:ensembldb.install-out.txt --library=/home/biocbuild/bbs-3.22-bioc/R/site-library --timings ensembldb_2.33.2.tar.gz StartedAt: 2025-10-24 23:26:54 -0400 (Fri, 24 Oct 2025) EndedAt: 2025-10-24 23:44:33 -0400 (Fri, 24 Oct 2025) EllapsedTime: 1059.1 seconds RetCode: 0 Status: OK CheckDir: ensembldb.Rcheck Warnings: 0