Package: ensembldb Version: 2.33.2 Command: /Library/Frameworks/R.framework/Resources/bin/R CMD build --keep-empty-dirs --no-resave-data ensembldb StartedAt: 2025-10-24 16:59:41 -0400 (Fri, 24 Oct 2025) EndedAt: 2025-10-24 17:02:17 -0400 (Fri, 24 Oct 2025) EllapsedTime: 156.1 seconds RetCode: 0 Status: OK PackageFile: ensembldb_2.33.2.tar.gz PackageFileSize: 3.281 MiB