Package: ensembldb Version: 2.33.2 Command: /Library/Frameworks/R.framework/Resources/bin/R CMD INSTALL ensembldb StartedAt: 2025-10-24 15:23:09 -0400 (Fri, 24 Oct 2025) EndedAt: 2025-10-24 15:23:26 -0400 (Fri, 24 Oct 2025) EllapsedTime: 16.6 seconds RetCode: 0 Status: OK