Package: ensembldb Version: 2.33.2 Command: rm -rf ensembldb.buildbin-libdir && mkdir ensembldb.buildbin-libdir && /Users/biocbuild/BBS/utils/build-universal.sh ensembldb_2.33.2.tar.gz /Library/Frameworks/R.framework/Resources/bin/R ensembldb.buildbin-libdir StartedAt: 2025-10-24 23:02:01 -0400 (Fri, 24 Oct 2025) EndedAt: 2025-10-24 23:02:20 -0400 (Fri, 24 Oct 2025) EllapsedTime: 18.5 seconds RetCode: 0 Status: OK PackageFile: ensembldb_2.33.2.tgz PackageFileSize: 3.601 MiB