Package: enrichplot Version: 1.29.4 Command: /home/biocbuild/R/R/bin/R CMD INSTALL enrichplot StartedAt: 2025-10-23 21:10:21 -0000 (Thu, 23 Oct 2025) EndedAt: 2025-10-23 21:10:53 -0000 (Thu, 23 Oct 2025) EllapsedTime: 32.4 seconds RetCode: 0 Status: OK