Package: enrichplot Version: 1.29.4 Command: /home/biocbuild/bbs-3.22-bioc/R/bin/R CMD INSTALL enrichplot StartedAt: 2025-10-24 15:57:03 -0400 (Fri, 24 Oct 2025) EndedAt: 2025-10-24 15:57:26 -0400 (Fri, 24 Oct 2025) EllapsedTime: 23.3 seconds RetCode: 0 Status: OK