Package: enrichplot Version: 1.29.4 Command: /home/biocbuild/bbs-3.22-bioc/R/bin/R CMD check --install=check:enrichplot.install-out.txt --library=/home/biocbuild/bbs-3.22-bioc/R/site-library --timings enrichplot_1.29.4.tar.gz StartedAt: 2025-10-24 23:26:24 -0400 (Fri, 24 Oct 2025) EndedAt: 2025-10-24 23:29:08 -0400 (Fri, 24 Oct 2025) EllapsedTime: 163.2 seconds RetCode: 0 Status: OK CheckDir: enrichplot.Rcheck Warnings: 0