Package: enrichplot Version: 1.29.4 Command: /home/biocbuild/bbs-3.22-bioc/R/bin/R CMD build --keep-empty-dirs --no-resave-data --md5 enrichplot StartedAt: 2025-10-24 17:39:43 -0400 (Fri, 24 Oct 2025) EndedAt: 2025-10-24 17:40:08 -0400 (Fri, 24 Oct 2025) EllapsedTime: 25.0 seconds RetCode: 0 Status: OK PackageFile: enrichplot_1.29.4.tar.gz PackageFileSize: 98.35 KiB