Package: enrichplot Version: 1.29.4 Command: /Library/Frameworks/R.framework/Resources/bin/R CMD INSTALL enrichplot StartedAt: 2025-10-24 15:48:09 -0400 (Fri, 24 Oct 2025) EndedAt: 2025-10-24 15:48:41 -0400 (Fri, 24 Oct 2025) EllapsedTime: 31.9 seconds RetCode: 0 Status: OK