Package: enrichplot Version: 1.29.4 Command: /Library/Frameworks/R.framework/Resources/bin/R CMD build --keep-empty-dirs --no-resave-data enrichplot StartedAt: 2025-10-24 16:59:19 -0400 (Fri, 24 Oct 2025) EndedAt: 2025-10-24 16:59:49 -0400 (Fri, 24 Oct 2025) EllapsedTime: 29.7 seconds RetCode: 0 Status: OK PackageFile: enrichplot_1.29.4.tar.gz PackageFileSize: 96.55 KiB