Package: enrichplot Version: 1.29.4 Command: /Library/Frameworks/R.framework/Resources/bin/R CMD INSTALL enrichplot StartedAt: 2025-10-24 15:28:29 -0400 (Fri, 24 Oct 2025) EndedAt: 2025-10-24 15:28:38 -0400 (Fri, 24 Oct 2025) EllapsedTime: 9.6 seconds RetCode: 0 Status: OK