Package: enrichplot Version: 1.29.4 Maintainer: Guangchuang Yu MaintainerEmail: guangchuangyu at gmail.com git_url: https://git.bioconductor.org/packages/enrichplot git_branch: devel git_last_commit: 281bbf1 git_last_commit_date: 2025-10-23 09:40:09 -0400 (Thu, 23 Oct 2025)