Package: enrichViewNet Version: 1.7.3 Command: /home/biocbuild/R/R/bin/R CMD INSTALL enrichViewNet StartedAt: 2025-10-23 21:10:53 -0000 (Thu, 23 Oct 2025) EndedAt: 2025-10-23 21:11:26 -0000 (Thu, 23 Oct 2025) EllapsedTime: 33.0 seconds RetCode: 0 Status: OK