Package: enrichViewNet Version: 1.7.2 Command: /home/biocbuild/R/R/bin/R CMD build --keep-empty-dirs --no-resave-data enrichViewNet StartedAt: 2025-10-20 23:36:31 -0000 (Mon, 20 Oct 2025) EndedAt: 2025-10-20 23:37:53 -0000 (Mon, 20 Oct 2025) EllapsedTime: 82.0 seconds RetCode: 0 Status: OK PackageFile: enrichViewNet_1.7.2.tar.gz PackageFileSize: 3.47 MiB