Package: enrichViewNet Version: 1.7.3 Command: /home/biocbuild/bbs-3.22-bioc/R/bin/R CMD INSTALL enrichViewNet StartedAt: 2025-10-24 15:57:26 -0400 (Fri, 24 Oct 2025) EndedAt: 2025-10-24 15:57:50 -0400 (Fri, 24 Oct 2025) EllapsedTime: 24.4 seconds RetCode: 0 Status: OK