Package: enrichViewNet Version: 1.7.3 Command: /home/biocbuild/bbs-3.22-bioc/R/bin/R CMD check --install=check:enrichViewNet.install-out.txt --library=/home/biocbuild/bbs-3.22-bioc/R/site-library --timings enrichViewNet_1.7.3.tar.gz StartedAt: 2025-10-24 23:26:41 -0400 (Fri, 24 Oct 2025) EndedAt: 2025-10-24 23:30:48 -0400 (Fri, 24 Oct 2025) EllapsedTime: 247.2 seconds RetCode: 0 Status: OK CheckDir: enrichViewNet.Rcheck Warnings: 0