Package: enrichViewNet Version: 1.7.3 Command: /home/biocbuild/bbs-3.22-bioc/R/bin/R CMD build --keep-empty-dirs --no-resave-data --md5 enrichViewNet StartedAt: 2025-10-24 17:40:08 -0400 (Fri, 24 Oct 2025) EndedAt: 2025-10-24 17:41:12 -0400 (Fri, 24 Oct 2025) EllapsedTime: 64.2 seconds RetCode: 0 Status: OK PackageFile: enrichViewNet_1.7.3.tar.gz PackageFileSize: 5.073 MiB