Package: enrichViewNet Version: 1.7.3 Command: /Library/Frameworks/R.framework/Resources/bin/R CMD INSTALL enrichViewNet StartedAt: 2025-10-24 15:48:41 -0400 (Fri, 24 Oct 2025) EndedAt: 2025-10-24 15:49:15 -0400 (Fri, 24 Oct 2025) EllapsedTime: 34.6 seconds RetCode: 0 Status: OK