Package: enrichViewNet Version: 1.7.3 Command: /Library/Frameworks/R.framework/Resources/bin/R CMD INSTALL enrichViewNet StartedAt: 2025-10-24 15:28:38 -0400 (Fri, 24 Oct 2025) EndedAt: 2025-10-24 15:28:48 -0400 (Fri, 24 Oct 2025) EllapsedTime: 9.7 seconds RetCode: 0 Status: OK