Package: enrichViewNet Version: 1.7.3 Command: /Library/Frameworks/R.framework/Resources/bin/R CMD build --keep-empty-dirs --no-resave-data enrichViewNet StartedAt: 2025-10-24 16:21:44 -0400 (Fri, 24 Oct 2025) EndedAt: 2025-10-24 16:22:13 -0400 (Fri, 24 Oct 2025) EllapsedTime: 29.3 seconds RetCode: 0 Status: OK PackageFile: enrichViewNet_1.7.3.tar.gz PackageFileSize: 5.328 MiB