Package: enrichViewNet Version: 1.7.3 Command: rm -rf enrichViewNet.buildbin-libdir && mkdir enrichViewNet.buildbin-libdir && /Users/biocbuild/BBS/utils/build-universal.sh enrichViewNet_1.7.3.tar.gz /Library/Frameworks/R.framework/Resources/bin/R enrichViewNet.buildbin-libdir StartedAt: 2025-10-24 23:01:59 -0400 (Fri, 24 Oct 2025) EndedAt: 2025-10-24 23:02:11 -0400 (Fri, 24 Oct 2025) EllapsedTime: 11.2 seconds RetCode: 0 Status: OK PackageFile: enrichViewNet_1.7.3.tgz PackageFileSize: 4.492 MiB