Package: enrichViewNet Version: 1.7.3 Maintainer: Astrid DeschĂȘnes MaintainerEmail: adeschen at hotmail.com git_url: https://git.bioconductor.org/packages/enrichViewNet git_branch: devel git_last_commit: 1baf441 git_last_commit_date: 2025-10-20 17:37:08 -0400 (Mon, 20 Oct 2025)