Package: enhancerHomologSearch Version: 1.15.2 Command: /home/biocbuild/bbs-3.22-bioc/R/bin/R CMD INSTALL enhancerHomologSearch StartedAt: 2025-10-24 16:05:51 -0400 (Fri, 24 Oct 2025) EndedAt: 2025-10-24 16:10:19 -0400 (Fri, 24 Oct 2025) EllapsedTime: 267.2 seconds RetCode: 0 Status: OK