Package: enhancerHomologSearch Version: 1.15.2 Command: /home/biocbuild/bbs-3.22-bioc/R/bin/R CMD build --keep-empty-dirs --no-resave-data --md5 enhancerHomologSearch StartedAt: 2025-10-24 17:38:35 -0400 (Fri, 24 Oct 2025) EndedAt: 2025-10-24 17:49:51 -0400 (Fri, 24 Oct 2025) EllapsedTime: 675.7 seconds RetCode: 0 Status: OK PackageFile: enhancerHomologSearch_1.15.2.tar.gz PackageFileSize: 1.05 MiB