Package: eisaR Version: 1.21.1 Command: /home/biocbuild/bbs-3.22-bioc/R/bin/R CMD INSTALL eisaR StartedAt: 2025-10-24 15:34:50 -0400 (Fri, 24 Oct 2025) EndedAt: 2025-10-24 15:35:10 -0400 (Fri, 24 Oct 2025) EllapsedTime: 20.3 seconds RetCode: 0 Status: OK