Package: eiR Version: 1.49.0 Command: /home/biocbuild/bbs-3.22-bioc/R/bin/R CMD INSTALL eiR StartedAt: 2025-10-24 15:23:05 -0400 (Fri, 24 Oct 2025) EndedAt: 2025-10-24 15:23:15 -0400 (Fri, 24 Oct 2025) EllapsedTime: 10.1 seconds RetCode: 0 Status: OK