Package: eiR Version: 1.50.0 Command: /Library/Frameworks/R.framework/Resources/bin/R CMD build --keep-empty-dirs --no-resave-data eiR StartedAt: 2025-11-02 16:18:18 -0500 (Sun, 02 Nov 2025) EndedAt: 2025-11-02 16:18:28 -0500 (Sun, 02 Nov 2025) EllapsedTime: 10.1 seconds RetCode: 0 Status: OK PackageFile: eiR_1.50.0.tar.gz PackageFileSize: 452.4 KiB