Package: eiR Version: 1.50.0 Command: rm -rf eiR.buildbin-libdir && mkdir eiR.buildbin-libdir && /Users/biocbuild/BBS/utils/build-universal.sh eiR_1.50.0.tar.gz /Library/Frameworks/R.framework/Resources/bin/R eiR.buildbin-libdir StartedAt: 2025-10-31 23:05:55 -0400 (Fri, 31 Oct 2025) EndedAt: 2025-10-31 23:06:00 -0400 (Fri, 31 Oct 2025) EllapsedTime: 5.1 seconds RetCode: 0 Status: OK PackageFile: eiR_1.50.0.tgz PackageFileSize: 572.3 KiB