Package: edgeR Version: 4.7.6 Command: /home/biocbuild/bbs-3.22-bioc/R/bin/R CMD INSTALL edgeR StartedAt: 2025-10-24 15:13:31 -0400 (Fri, 24 Oct 2025) EndedAt: 2025-10-24 15:13:48 -0400 (Fri, 24 Oct 2025) EllapsedTime: 16.9 seconds RetCode: 0 Status: OK