Package: edgeR Version: 4.8.0 Command: /Library/Frameworks/R.framework/Resources/bin/R CMD INSTALL edgeR StartedAt: 2025-11-02 15:01:47 -0500 (Sun, 02 Nov 2025) EndedAt: 2025-11-02 15:01:56 -0500 (Sun, 02 Nov 2025) EllapsedTime: 8.8 seconds RetCode: 0 Status: OK