Package: edgeR Version: 4.8.0 Command: /Library/Frameworks/R.framework/Resources/bin/R CMD build --keep-empty-dirs --no-resave-data edgeR StartedAt: 2025-10-31 16:21:49 -0400 (Fri, 31 Oct 2025) EndedAt: 2025-10-31 16:22:00 -0400 (Fri, 31 Oct 2025) EllapsedTime: 11.1 seconds RetCode: 0 Status: OK PackageFile: edgeR_4.8.0.tar.gz PackageFileSize: 2.92 MiB