Package: edgeR Version: 4.8.0 Command: rm -rf edgeR.buildbin-libdir && mkdir edgeR.buildbin-libdir && /Users/biocbuild/BBS/utils/build-universal.sh edgeR_4.8.0.tar.gz /Library/Frameworks/R.framework/Resources/bin/R edgeR.buildbin-libdir StartedAt: 2025-10-31 23:05:51 -0400 (Fri, 31 Oct 2025) EndedAt: 2025-10-31 23:05:57 -0400 (Fri, 31 Oct 2025) EllapsedTime: 6.1 seconds RetCode: 0 Status: OK PackageFile: edgeR_4.8.0.tgz PackageFileSize: 2.652 MiB