Package: edge Version: 2.41.0 Command: /home/biocbuild/bbs-3.22-bioc/R/bin/R CMD INSTALL edge StartedAt: 2025-10-27 15:31:47 -0400 (Mon, 27 Oct 2025) EndedAt: 2025-10-27 15:32:13 -0400 (Mon, 27 Oct 2025) EllapsedTime: 25.9 seconds RetCode: 0 Status: OK