Package: edge Version: 2.41.0 Command: /home/biocbuild/bbs-3.22-bioc/R/bin/R CMD build --keep-empty-dirs --no-resave-data --md5 edge StartedAt: 2025-10-24 17:37:22 -0400 (Fri, 24 Oct 2025) EndedAt: 2025-10-24 17:38:21 -0400 (Fri, 24 Oct 2025) EllapsedTime: 59.1 seconds RetCode: 0 Status: OK PackageFile: edge_2.41.0.tar.gz PackageFileSize: 1008 KiB